BEGIN:VCALENDAR
PRODID:-//hacksw/handcal//NONSGML v1.0//EN
VERSION:2.0
METHOD:PUBLISH
BEGIN:VEVENT
DTSTART:20101018T160000Z
DTEND:20101018T170000Z
LOCATION:Clearwater Country Club
UID:447620101018T160000Z“(Almost) Everything You May Want to Know About The Use of Trust Protectors”
DTSTAMP:20260420T182118Z
DESCRIPTION:
SUMMARY:“(Almost) Everything You May Want to Know About The Use of Trust Protectors” - Pinellas County Estate Planning Council, Inc. 
PRIORITY:3
BEGIN:VALARM
TRIGGER:PT18H
ACTION:DISPLAY
DESCRIPTION:Reminder
END:VALARM
END:VEVENT
END:VCALENDAR