BEGIN:VCALENDAR
PRODID:-//hacksw/handcal//NONSGML v1.0//EN
VERSION:2.0
METHOD:PUBLISH
BEGIN:VEVENT
DTSTART:20101115T170000Z
DTEND:20101115T180000Z
LOCATION:Clearwater Country Club
UID:447720101115T170000ZRevocation of Wills:  An idea whose time has come?
DTSTAMP:20260420T182116Z
DESCRIPTION:
SUMMARY:Revocation of Wills:  An idea whose time has come? - Pinellas County Estate Planning Council, Inc. 
PRIORITY:3
BEGIN:VALARM
TRIGGER:PT18H
ACTION:DISPLAY
DESCRIPTION:Reminder
END:VALARM
END:VEVENT
END:VCALENDAR