BEGIN:VCALENDAR
PRODID:-//hacksw/handcal//NONSGML v1.0//EN
VERSION:2.0
METHOD:PUBLISH
BEGIN:VEVENT
DTSTART:20110124T170000Z
DTEND:20110124T183000Z
LOCATION:Joint Meeting with PPP @ SPC 2465 Drew Street Clearwater
UID:513320110124T170000ZRepeal of the Estate Tax/New rules for 2011
DTSTAMP:20260420T182554Z
DESCRIPTION:\nThe building on campus map that is marked SS, room 160\n
SUMMARY:Repeal of the Estate Tax/New rules for 2011 - Pinellas County Estate Planning Council, Inc. 
PRIORITY:3
BEGIN:VALARM
TRIGGER:PT18H
ACTION:DISPLAY
DESCRIPTION:Reminder
END:VALARM
END:VEVENT
END:VCALENDAR