BEGIN:VCALENDAR
PRODID:-//hacksw/handcal//NONSGML v1.0//EN
VERSION:2.0
METHOD:PUBLISH
BEGIN:VEVENT
DTSTART:20110321T160000Z
DTEND:20110321T170000Z
LOCATION:Clearwater Country Club
UID:517520110321T160000Z"The economic outlook with special attention to the Bond Market"
DTSTAMP:20260420T182352Z
DESCRIPTION:
SUMMARY:"The economic outlook with special attention to the Bond Market" - Pinellas County Estate Planning Council, Inc. 
PRIORITY:3
BEGIN:VALARM
TRIGGER:PT18H
ACTION:DISPLAY
DESCRIPTION:Reminder
END:VALARM
END:VEVENT
END:VCALENDAR