BEGIN:VCALENDAR
PRODID:-//hacksw/handcal//NONSGML v1.0//EN
VERSION:2.0
METHOD:PUBLISH
BEGIN:VEVENT
DTSTART:20110421T160000Z
DTEND:20110421T170000Z
LOCATION: Best Western Clearwater Grand Hotel 20967- U S Hwy 19 north Clearwater
UID:517620110421T160000Z“Planning Opportunities and Structures under the New Estate Tax Law"
DTSTAMP:20260420T182247Z
DESCRIPTION:\nThe speakers for the joint meeting will be Alan Gassman, Ken Crotty and Chris Denicola\n
SUMMARY:“Planning Opportunities and Structures under the New Estate Tax Law" - Pinellas County Estate Planning Council, Inc. 
PRIORITY:3
BEGIN:VALARM
TRIGGER:PT18H
ACTION:DISPLAY
DESCRIPTION:Reminder
END:VALARM
END:VEVENT
END:VCALENDAR