BEGIN:VCALENDAR
PRODID:-//hacksw/handcal//NONSGML v1.0//EN
VERSION:2.0
METHOD:PUBLISH
BEGIN:VEVENT
DTSTART:20110516T160000Z
DTEND:20110516T170000Z
LOCATION:Clearwater Country Club
UID:517720110516T160000ZSpecial needs Trust Planning
DTSTAMP:20260420T182336Z
DESCRIPTION:
SUMMARY:Special needs Trust Planning - Pinellas County Estate Planning Council, Inc. 
PRIORITY:3
BEGIN:VALARM
TRIGGER:PT18H
ACTION:DISPLAY
DESCRIPTION:Reminder
END:VALARM
END:VEVENT
END:VCALENDAR