BEGIN:VCALENDAR
PRODID:-//hacksw/handcal//NONSGML v1.0//EN
VERSION:2.0
METHOD:PUBLISH
BEGIN:VEVENT
DTSTART:20110601T090000Z
DTEND:20110601T090000Z
LOCATION:
UID:517820110601T090000ZNo Meetings in June, July or August
DTSTAMP:20260420T182110Z
DESCRIPTION:
SUMMARY:No Meetings in June, July or August - Pinellas County Estate Planning Council, Inc. 
PRIORITY:3
BEGIN:VALARM
TRIGGER:PT18H
ACTION:DISPLAY
DESCRIPTION:Reminder
END:VALARM
END:VEVENT
END:VCALENDAR