BEGIN:VCALENDAR
PRODID:-//hacksw/handcal//NONSGML v1.0//EN
VERSION:2.0
METHOD:PUBLISH
BEGIN:VEVENT
DTSTART:20110921T210000Z
DTEND:20110922T000000Z
LOCATION:Dunedin Art Center
UID:517920110921T210000ZFall Kick-Off  
DTSTAMP:20260420T182638Z
DESCRIPTION:
SUMMARY:Fall Kick-Off   - Pinellas County Estate Planning Council, Inc. 
PRIORITY:3
BEGIN:VALARM
TRIGGER:PT18H
ACTION:DISPLAY
DESCRIPTION:Reminder
END:VALARM
END:VEVENT
END:VCALENDAR