BEGIN:VCALENDAR
PRODID:-//hacksw/handcal//NONSGML v1.0//EN
VERSION:2.0
METHOD:PUBLISH
BEGIN:VEVENT
DTSTART:20111017T160000Z
DTEND:20111017T170000Z
LOCATION:Carabba's on Rt. 19 Clearwater
UID:518020111017T160000ZAsset Protection
DTSTAMP:20260420T182522Z
DESCRIPTION:
SUMMARY:Asset Protection - Pinellas County Estate Planning Council, Inc. 
PRIORITY:3
BEGIN:VALARM
TRIGGER:PT18H
ACTION:DISPLAY
DESCRIPTION:Reminder
END:VALARM
END:VEVENT
END:VCALENDAR