BEGIN:VCALENDAR
PRODID:-//hacksw/handcal//NONSGML v1.0//EN
VERSION:2.0
METHOD:PUBLISH
BEGIN:VEVENT
DTSTART:20111114T170000Z
DTEND:20111114T180000Z
LOCATION:Carrabba's HWY 19
UID:518420111114T170000ZPowers of Attorney:  The Good, The New and The Ugly."  
DTSTAMP:20260420T182305Z
DESCRIPTION:
SUMMARY:Powers of Attorney:  The Good, The New and The Ugly."   - Pinellas County Estate Planning Council, Inc. 
PRIORITY:3
BEGIN:VALARM
TRIGGER:PT18H
ACTION:DISPLAY
DESCRIPTION:Reminder
END:VALARM
END:VEVENT
END:VCALENDAR