BEGIN:VCALENDAR
PRODID:-//hacksw/handcal//NONSGML v1.0//EN
VERSION:2.0
METHOD:PUBLISH
BEGIN:VEVENT
DTSTART:20111212T170000Z
DTEND:20111212T180000Z
LOCATION:Carabba's Rt 19 Clearwater
UID:518520111212T170000ZMarital and Nonmarital Assets/Professional Liability
DTSTAMP:20260420T182304Z
DESCRIPTION:\nMeeting Sponsored by Older, Lundy & Weisman\n
SUMMARY:Marital and Nonmarital Assets/Professional Liability - Pinellas County Estate Planning Council, Inc. 
PRIORITY:3
BEGIN:VALARM
TRIGGER:PT18H
ACTION:DISPLAY
DESCRIPTION:Reminder
END:VALARM
END:VEVENT
END:VCALENDAR