BEGIN:VCALENDAR
PRODID:-//hacksw/handcal//NONSGML v1.0//EN
VERSION:2.0
METHOD:PUBLISH
BEGIN:VEVENT
DTSTART:20120123T170000Z
DTEND:20120123T180000Z
LOCATION:Carrabba's Italian Grill 2680 Gulf to Bay Blvd. Clearwater, FL 33759
UID:609720120123T170000ZTax Updates
DTSTAMP:20260420T182109Z
DESCRIPTION:
SUMMARY:Tax Updates - Pinellas County Estate Planning Council, Inc. 
PRIORITY:3
BEGIN:VALARM
TRIGGER:PT18H
ACTION:DISPLAY
DESCRIPTION:Reminder
END:VALARM
END:VEVENT
END:VCALENDAR