BEGIN:VCALENDAR
PRODID:-//hacksw/handcal//NONSGML v1.0//EN
VERSION:2.0
METHOD:PUBLISH
BEGIN:VEVENT
DTSTART:20120227T170000Z
DTEND:20120227T180000Z
LOCATION:Carrabba's 2680 Gulf to Bay Clearwater, FL
UID:616420120227T170000ZSame Sex Planning Tips
DTSTAMP:20260420T182350Z
DESCRIPTION:
SUMMARY:Same Sex Planning Tips - Pinellas County Estate Planning Council, Inc. 
PRIORITY:3
BEGIN:VALARM
TRIGGER:PT18H
ACTION:DISPLAY
DESCRIPTION:Reminder
END:VALARM
END:VEVENT
END:VCALENDAR