BEGIN:VCALENDAR
PRODID:-//hacksw/handcal//NONSGML v1.0//EN
VERSION:2.0
METHOD:PUBLISH
BEGIN:VEVENT
DTSTART:20120319T160000Z
DTEND:20120319T170000Z
LOCATION:Carrabba's 2680 Gulf to Bay Clearwater, FL
UID:616520120319T160000ZCharitable Planning during an Economic Downturn
DTSTAMP:20260420T182303Z
DESCRIPTION:
SUMMARY:Charitable Planning during an Economic Downturn - Pinellas County Estate Planning Council, Inc. 
PRIORITY:3
BEGIN:VALARM
TRIGGER:PT18H
ACTION:DISPLAY
DESCRIPTION:Reminder
END:VALARM
END:VEVENT
END:VCALENDAR