BEGIN:VCALENDAR
PRODID:-//hacksw/handcal//NONSGML v1.0//EN
VERSION:2.0
METHOD:PUBLISH
BEGIN:VEVENT
DTSTART:20120521T160000Z
DTEND:20120521T170000Z
LOCATION:Carrabba's 2680 Gulf to Bay Clearwater, FL
UID:616720120521T160000ZCrystal Ball View on the Estate Tax for 2013 and Some Can’t Miss Planning Opportunities’
DTSTAMP:20260420T182530Z
DESCRIPTION:
SUMMARY:Crystal Ball View on the Estate Tax for 2013 and Some Can’t Miss Planning Opportunities’ - Pinellas County Estate Planning Council, Inc. 
PRIORITY:3
BEGIN:VALARM
TRIGGER:PT18H
ACTION:DISPLAY
DESCRIPTION:Reminder
END:VALARM
END:VEVENT
END:VCALENDAR