BEGIN:VCALENDAR
PRODID:-//hacksw/handcal//NONSGML v1.0//EN
VERSION:2.0
METHOD:PUBLISH
BEGIN:VEVENT
DTSTART:20121017T113000Z
DTEND:20121017T160000Z
LOCATION:Ruth Eckerd Hall
UID:616920121017T113000ZEstate Planning Seminar
DTSTAMP:20260420T182303Z
DESCRIPTION:
SUMMARY:Estate Planning Seminar - Pinellas County Estate Planning Council, Inc. 
PRIORITY:3
BEGIN:VALARM
TRIGGER:PT18H
ACTION:DISPLAY
DESCRIPTION:Reminder
END:VALARM
END:VEVENT
END:VCALENDAR