BEGIN:VCALENDAR
PRODID:-//hacksw/handcal//NONSGML v1.0//EN
VERSION:2.0
METHOD:PUBLISH
BEGIN:VEVENT
DTSTART:20121126T170000Z
DTEND:20121126T180000Z
LOCATION:
UID:617120121126T170000Z“Who gives?  Philanthropy’s role in estate planning”  
DTSTAMP:20260420T182247Z
DESCRIPTION:
SUMMARY:“Who gives?  Philanthropy’s role in estate planning”   - Pinellas County Estate Planning Council, Inc. 
PRIORITY:3
BEGIN:VALARM
TRIGGER:PT18H
ACTION:DISPLAY
DESCRIPTION:Reminder
END:VALARM
END:VEVENT
END:VCALENDAR