BEGIN:VCALENDAR
PRODID:-//hacksw/handcal//NONSGML v1.0//EN
VERSION:2.0
METHOD:PUBLISH
BEGIN:VEVENT
DTSTART:20121210T170000Z
DTEND:20121210T180000Z
LOCATION:Holiday Inn Express 2580 Gulf to Bay Blvd Clearwater, FL 33765
UID:617220121210T170000Z"Special Needs Trusts: Defining the Basics and Discussing the lesser-known Uses of SNTs."
DTSTAMP:20260420T182431Z
DESCRIPTION:
SUMMARY:"Special Needs Trusts: Defining the Basics and Discussing the lesser-known Uses of SNTs." - Pinellas County Estate Planning Council, Inc. 
PRIORITY:3
BEGIN:VALARM
TRIGGER:PT18H
ACTION:DISPLAY
DESCRIPTION:Reminder
END:VALARM
END:VEVENT
END:VCALENDAR