BEGIN:VCALENDAR
PRODID:-//hacksw/handcal//NONSGML v1.0//EN
VERSION:2.0
METHOD:PUBLISH
BEGIN:VEVENT
DTSTART:20130128T170000Z
DTEND:20130128T180000Z
LOCATION:Holiday Inn Express 2580 Gulf to Bay Blvd Clearwater, FL 33765
UID:657920130128T170000ZFederal Tax Updates for 2013
DTSTAMP:20260420T182109Z
DESCRIPTION:
SUMMARY:Federal Tax Updates for 2013 - Pinellas County Estate Planning Council, Inc. 
PRIORITY:3
BEGIN:VALARM
TRIGGER:PT18H
ACTION:DISPLAY
DESCRIPTION:Reminder
END:VALARM
END:VEVENT
END:VCALENDAR