BEGIN:VCALENDAR
PRODID:-//hacksw/handcal//NONSGML v1.0//EN
VERSION:2.0
METHOD:PUBLISH
BEGIN:VEVENT
DTSTART:20130225T170000Z
DTEND:20130225T180000Z
LOCATION:Holiday Inn Express 2580 Gulf to Bay Blvd Clearwater, FL 33765
UID:658020130225T170000ZDavid Frye, Esquire (Regional Fiduciary Executive) 
DTSTAMP:20260420T182110Z
DESCRIPTION:\nJoint with Partnership for Philanthropic Planning of Tampa Bay\n
SUMMARY:David Frye, Esquire (Regional Fiduciary Executive)  - Pinellas County Estate Planning Council, Inc. 
PRIORITY:3
BEGIN:VALARM
TRIGGER:PT18H
ACTION:DISPLAY
DESCRIPTION:Reminder
END:VALARM
END:VEVENT
END:VCALENDAR