BEGIN:VCALENDAR
PRODID:-//hacksw/handcal//NONSGML v1.0//EN
VERSION:2.0
METHOD:PUBLISH
BEGIN:VEVENT
DTSTART:20130318T160000Z
DTEND:20130318T170000Z
LOCATION:Holiday Inn Express 2580 Gulf to Bay Blvd Clearwater, FL 33765
UID:658120130318T160000ZFixing Trusts That Don't Work Judicial, Non-Judicial Modification and Decanting
DTSTAMP:20260420T182247Z
DESCRIPTION:
SUMMARY:Fixing Trusts That Don't Work Judicial, Non-Judicial Modification and Decanting - Pinellas County Estate Planning Council, Inc. 
PRIORITY:3
BEGIN:VALARM
TRIGGER:PT18H
ACTION:DISPLAY
DESCRIPTION:Reminder
END:VALARM
END:VEVENT
END:VCALENDAR