BEGIN:VCALENDAR
PRODID:-//hacksw/handcal//NONSGML v1.0//EN
VERSION:2.0
METHOD:PUBLISH
BEGIN:VEVENT
DTSTART:20130418T160000Z
DTEND:20130418T170000Z
LOCATION: Clarion Inn & Suites (FL321) 20967 US 19 N., Clearwater, FL, US, 33765
UID:658220130418T160000ZDigital assets with the subject titled: Planners on the Ground, Assets in the Cloud: Estate Planning
DTSTAMP:20260420T182109Z
DESCRIPTION:
SUMMARY:Digital assets with the subject titled: Planners on the Ground, Assets in the Cloud: Estate Planning - Pinellas County Estate Planning Council, Inc. 
PRIORITY:3
BEGIN:VALARM
TRIGGER:PT18H
ACTION:DISPLAY
DESCRIPTION:Reminder
END:VALARM
END:VEVENT
END:VCALENDAR