BEGIN:VCALENDAR
PRODID:-//hacksw/handcal//NONSGML v1.0//EN
VERSION:2.0
METHOD:PUBLISH
BEGIN:VEVENT
DTSTART:20131007T160000Z
DTEND:20131007T170000Z
LOCATION:Holiday Inn Express 2580 Gulf to Bay Blvd Clearwater, FL 33765
UID:658520131007T160000Z"Technical Analysis-Charting Stock"
DTSTAMP:20260420T182830Z
DESCRIPTION:
SUMMARY:"Technical Analysis-Charting Stock" - Pinellas County Estate Planning Council, Inc. 
PRIORITY:3
BEGIN:VALARM
TRIGGER:PT18H
ACTION:DISPLAY
DESCRIPTION:Reminder
END:VALARM
END:VEVENT
END:VCALENDAR