BEGIN:VCALENDAR
PRODID:-//hacksw/handcal//NONSGML v1.0//EN
VERSION:2.0
METHOD:PUBLISH
BEGIN:VEVENT
DTSTART:20131216T170000Z
DTEND:20131216T180000Z
LOCATION:Holiday Inn Express 2580 Gulf to Bay Blvd Clearwater, FL 33765
UID:658720131216T170000Z"WHEN IS GUARDIANSHIP APPROPRIATE?”
DTSTAMP:20260420T182212Z
DESCRIPTION:
SUMMARY:"WHEN IS GUARDIANSHIP APPROPRIATE?” - Pinellas County Estate Planning Council, Inc. 
PRIORITY:3
BEGIN:VALARM
TRIGGER:PT18H
ACTION:DISPLAY
DESCRIPTION:Reminder
END:VALARM
END:VEVENT
END:VCALENDAR