BEGIN:VCALENDAR
PRODID:-//hacksw/handcal//NONSGML v1.0//EN
VERSION:2.0
METHOD:PUBLISH
BEGIN:VEVENT
DTSTART:20130918T213000Z
DTEND:20130918T230000Z
LOCATION:Café Ponte
UID:678220130918T213000ZFall-Kick off social 
DTSTAMP:20260420T182249Z
DESCRIPTION:\n \n \n\n\n\n
SUMMARY:Fall-Kick off social  - Pinellas County Estate Planning Council, Inc. 
PRIORITY:3
BEGIN:VALARM
TRIGGER:PT18H
ACTION:DISPLAY
DESCRIPTION:Reminder
END:VALARM
END:VEVENT
END:VCALENDAR