BEGIN:VCALENDAR
PRODID:-//hacksw/handcal//NONSGML v1.0//EN
VERSION:2.0
METHOD:PUBLISH
BEGIN:VEVENT
DTSTART:20140127T170000Z
DTEND:20140127T180000Z
LOCATION:Holiday Inn Express 2580 Gulf to Bay Blvd Clearwater, FL 33765
UID:756220140127T170000Z“What every professional advisor should know about the Affordable Care Act”
DTSTAMP:20260420T182334Z
DESCRIPTION:
SUMMARY:“What every professional advisor should know about the Affordable Care Act” - Pinellas County Estate Planning Council, Inc. 
PRIORITY:3
BEGIN:VALARM
TRIGGER:PT18H
ACTION:DISPLAY
DESCRIPTION:Reminder
END:VALARM
END:VEVENT
END:VCALENDAR