BEGIN:VCALENDAR
PRODID:-//hacksw/handcal//NONSGML v1.0//EN
VERSION:2.0
METHOD:PUBLISH
BEGIN:VEVENT
DTSTART:20140224T170000Z
DTEND:20140224T180000Z
LOCATION:Holiday Inn Express 2580 Gulf to Bay Blvd Clearwater, FL 33765
UID:756320140224T170000ZThwarted Charitable Intent- Opportunities and Pitfalls in Gifts to Charities
DTSTAMP:20260420T182111Z
DESCRIPTION:
SUMMARY:Thwarted Charitable Intent- Opportunities and Pitfalls in Gifts to Charities - Pinellas County Estate Planning Council, Inc. 
PRIORITY:3
BEGIN:VALARM
TRIGGER:PT18H
ACTION:DISPLAY
DESCRIPTION:Reminder
END:VALARM
END:VEVENT
END:VCALENDAR