BEGIN:VCALENDAR
PRODID:-//hacksw/handcal//NONSGML v1.0//EN
VERSION:2.0
METHOD:PUBLISH
BEGIN:VEVENT
DTSTART:20140317T160000Z
DTEND:20140317T170000Z
LOCATION:Ruth Eckerd Hall @ Murray Studio 1111 N McMullen Booth Rd, Clearwater, Florida 33759
UID:756420140317T160000ZTo Be Announced
DTSTAMP:20260420T182212Z
DESCRIPTION:
SUMMARY:To Be Announced - Pinellas County Estate Planning Council, Inc. 
PRIORITY:3
BEGIN:VALARM
TRIGGER:PT18H
ACTION:DISPLAY
DESCRIPTION:Reminder
END:VALARM
END:VEVENT
END:VCALENDAR