BEGIN:VCALENDAR
PRODID:-//hacksw/handcal//NONSGML v1.0//EN
VERSION:2.0
METHOD:PUBLISH
BEGIN:VEVENT
DTSTART:20140417T160000Z
DTEND:20140417T170000Z
LOCATION:Clarion Inn & Suites, 20967 US Hwy 19N, Clearwater 33765
UID:756520140417T160000ZJoint meeting with Clearwater Bar
DTSTAMP:20260420T182117Z
DESCRIPTION:
SUMMARY:Joint meeting with Clearwater Bar - Pinellas County Estate Planning Council, Inc. 
PRIORITY:3
BEGIN:VALARM
TRIGGER:PT18H
ACTION:DISPLAY
DESCRIPTION:Reminder
END:VALARM
END:VEVENT
END:VCALENDAR