BEGIN:VCALENDAR
PRODID:-//hacksw/handcal//NONSGML v1.0//EN
VERSION:2.0
METHOD:PUBLISH
BEGIN:VEVENT
DTSTART:20140519T160000Z
DTEND:20140519T170000Z
LOCATION:Ruth Eckerd Hall @Margarete Heye Great Room  1111 N McMullen Booth Rd, Clearwater, Florida 33759
UID:756620140519T160000ZGlobal Economy and the Impact on the Tampa Bay Economy
DTSTAMP:20260420T182350Z
DESCRIPTION:
SUMMARY:Global Economy and the Impact on the Tampa Bay Economy - Pinellas County Estate Planning Council, Inc. 
PRIORITY:3
BEGIN:VALARM
TRIGGER:PT18H
ACTION:DISPLAY
DESCRIPTION:Reminder
END:VALARM
END:VEVENT
END:VCALENDAR