BEGIN:VCALENDAR
PRODID:-//hacksw/handcal//NONSGML v1.0//EN
VERSION:2.0
METHOD:PUBLISH
BEGIN:VEVENT
DTSTART:20140917T210000Z
DTEND:20140917T110000Z
LOCATION:
UID:756720140917T210000ZFall Social
DTSTAMP:20260420T182303Z
DESCRIPTION:
SUMMARY:Fall Social - Pinellas County Estate Planning Council, Inc. 
PRIORITY:3
BEGIN:VALARM
TRIGGER:PT18H
ACTION:DISPLAY
DESCRIPTION:Reminder
END:VALARM
END:VEVENT
END:VCALENDAR