BEGIN:VCALENDAR
PRODID:-//hacksw/handcal//NONSGML v1.0//EN
VERSION:2.0
METHOD:PUBLISH
BEGIN:VEVENT
DTSTART:20141006T160000Z
DTEND:20141006T170000Z
LOCATION:
UID:756820141006T160000ZTo Be Announced
DTSTAMP:20260420T182116Z
DESCRIPTION:
SUMMARY:To Be Announced - Pinellas County Estate Planning Council, Inc. 
PRIORITY:3
BEGIN:VALARM
TRIGGER:PT18H
ACTION:DISPLAY
DESCRIPTION:Reminder
END:VALARM
END:VEVENT
END:VCALENDAR