BEGIN:VCALENDAR
PRODID:-//hacksw/handcal//NONSGML v1.0//EN
VERSION:2.0
METHOD:PUBLISH
BEGIN:VEVENT
DTSTART:20131023T111500Z
DTEND:20131023T160000Z
LOCATION:
UID:756920131023T111500Z2nd Annual PCEPC Seminar
DTSTAMP:20260420T182433Z
DESCRIPTION:
SUMMARY:2nd Annual PCEPC Seminar - Pinellas County Estate Planning Council, Inc. 
PRIORITY:3
BEGIN:VALARM
TRIGGER:PT18H
ACTION:DISPLAY
DESCRIPTION:Reminder
END:VALARM
END:VEVENT
END:VCALENDAR