BEGIN:VCALENDAR
PRODID:-//hacksw/handcal//NONSGML v1.0//EN
VERSION:2.0
METHOD:PUBLISH
BEGIN:VEVENT
DTSTART:20141117T170000Z
DTEND:20141117T180000Z
LOCATION:REH
UID:757020141117T170000Z“Managing Risks and Navigating Uncertainty”
DTSTAMP:20260420T182334Z
DESCRIPTION:
SUMMARY:“Managing Risks and Navigating Uncertainty” - Pinellas County Estate Planning Council, Inc. 
PRIORITY:3
BEGIN:VALARM
TRIGGER:PT18H
ACTION:DISPLAY
DESCRIPTION:Reminder
END:VALARM
END:VEVENT
END:VCALENDAR