BEGIN:VCALENDAR
PRODID:-//hacksw/handcal//NONSGML v1.0//EN
VERSION:2.0
METHOD:PUBLISH
BEGIN:VEVENT
DTSTART:20141215T170000Z
DTEND:20141215T180000Z
LOCATION:REH
UID:757120141215T170000Z"Legacy: How You Live Today and How You Are Remembered Tomorrow."
DTSTAMP:20260420T182211Z
DESCRIPTION:
SUMMARY:"Legacy: How You Live Today and How You Are Remembered Tomorrow." - Pinellas County Estate Planning Council, Inc. 
PRIORITY:3
BEGIN:VALARM
TRIGGER:PT18H
ACTION:DISPLAY
DESCRIPTION:Reminder
END:VALARM
END:VEVENT
END:VCALENDAR